BEGIN:VCALENDAR
VERSION:2.0
PRODID:-//Port Edward Restaurant - ECPv6.15.20//NONSGML v1.0//EN
CALSCALE:GREGORIAN
METHOD:PUBLISH
X-WR-CALNAME:Port Edward Restaurant
X-ORIGINAL-URL:https://portedward.com
X-WR-CALDESC:Events for Port Edward Restaurant
REFRESH-INTERVAL;VALUE=DURATION:PT1H
X-Robots-Tag:noindex
X-PUBLISHED-TTL:PT1H
BEGIN:VTIMEZONE
TZID:America/Chicago
BEGIN:DAYLIGHT
TZOFFSETFROM:-0600
TZOFFSETTO:-0500
TZNAME:CDT
DTSTART:20240310T080000
END:DAYLIGHT
BEGIN:STANDARD
TZOFFSETFROM:-0500
TZOFFSETTO:-0600
TZNAME:CST
DTSTART:20241103T070000
END:STANDARD
BEGIN:DAYLIGHT
TZOFFSETFROM:-0600
TZOFFSETTO:-0500
TZNAME:CDT
DTSTART:20250309T080000
END:DAYLIGHT
BEGIN:STANDARD
TZOFFSETFROM:-0500
TZOFFSETTO:-0600
TZNAME:CST
DTSTART:20251102T070000
END:STANDARD
BEGIN:DAYLIGHT
TZOFFSETFROM:-0600
TZOFFSETTO:-0500
TZNAME:CDT
DTSTART:20260308T080000
END:DAYLIGHT
BEGIN:STANDARD
TZOFFSETFROM:-0500
TZOFFSETTO:-0600
TZNAME:CST
DTSTART:20261101T070000
END:STANDARD
END:VTIMEZONE
BEGIN:VEVENT
DTSTART;TZID=America/Chicago:20251025T120000
DTEND;TZID=America/Chicago:20251025T160000
DTSTAMP:20260423T060107
CREATED:20251021T202130Z
LAST-MODIFIED:20251021T202130Z
UID:10001159-1761393600-1761408000@portedward.com
SUMMARY:Kill The Keg
DESCRIPTION:Join us as we close out another great Dockside season with our annual Kill the Keg Weekend!Enjoy $2.50 Miller Lite drafts and $4 drafts of all other beers while they last. \nOur Dockside Bar will be open with heaters on to keep things cozy if it’s a little chilly — so come raise a glass by the river one more time before we wrap up the season. \nDon’t miss the final toast of the season! \nDockside Bar Only. Weather Permitting. \n\n\n                    \n                        \n                        \n                    \n\n        \n        Raise a glass to spring and join us for one of our favorite annual traditions. \nOur Spring Wine Tasting brings together over 50 wines from a variety of regions and styles—perfect for discovering new favorites\, revisiting classics\, and enjoying a relaxed evening out. \nAs you sip\, enjoy a thoughtfully prepared appetizer buffet designed to complement the wines and keep the evening moving at a comfortable\, social pace. \nWhether you’re a wine enthusiast or simply looking for a great night out\, this is an easy\, enjoyable way to experience something new. \nWhat to Expect: \n\n50+ wines to taste\nA full appetizer buffet\nA casual\, walk-around tasting experience\nA great atmosphere to gather with friends\n\nTickets:$50 in advance | $55 at the door \nThis event is held once a year and tends to fill quickly—advance tickets are strongly recommended. Must be 21 or older to attend. \n🎟 Purchase Today     \n\n\n	\n					\n													\n															\n								\n										\n										\n																																		\n																			\n										\n										Spring Wine Tasting Tickets\n																				\n																		\n																	  \n\n								\n	$50.00\nSelect options	\n		This product has multiple variants. The options may be chosen on the product page
URL:https://portedward.com/calendar/kill-the-keg-2025/2025-10-25/
LOCATION:IL
END:VEVENT
BEGIN:VEVENT
DTSTART;TZID=America/Chicago:20251025T180000
DTEND;TZID=America/Chicago:20251025T210000
DTSTAMP:20260423T060107
CREATED:20251002T201746Z
LAST-MODIFIED:20251014T185636Z
UID:10000637-1761415200-1761426000@portedward.com
SUMMARY:Live Entertainment
DESCRIPTION:Raise a glass to spring and join us for one of our favorite annual traditions. \nOur Spring Wine Tasting brings together over 50 wines from a variety of regions and styles—perfect for discovering new favorites\, revisiting classics\, and enjoying a relaxed evening out. \nAs you sip\, enjoy a thoughtfully prepared appetizer buffet designed to complement the wines and keep the evening moving at a comfortable\, social pace. \nWhether you’re a wine enthusiast or simply looking for a great night out\, this is an easy\, enjoyable way to experience something new. \nWhat to Expect: \n\n50+ wines to taste\nA full appetizer buffet\nA casual\, walk-around tasting experience\nA great atmosphere to gather with friends\n\nTickets:$50 in advance | $55 at the door \nThis event is held once a year and tends to fill quickly—advance tickets are strongly recommended. Must be 21 or older to attend. \n🎟 Purchase Today     \n\n\n	\n					\n													\n															\n								\n										\n										\n																																		\n																			\n										\n										Spring Wine Tasting Tickets\n																				\n																		\n																	  \n\n								\n	$50.00\nSelect options	\n		This product has multiple variants. The options may be chosen on the product page
URL:https://portedward.com/calendar/live-entertainment/2025-10-25/
LOCATION:IL
CATEGORIES:Live Music
END:VEVENT
END:VCALENDAR