BEGIN:VCALENDAR
VERSION:2.0
PRODID:-//Port Edward Restaurant - ECPv6.15.20//NONSGML v1.0//EN
CALSCALE:GREGORIAN
METHOD:PUBLISH
X-WR-CALNAME:Port Edward Restaurant
X-ORIGINAL-URL:https://portedward.com
X-WR-CALDESC:Events for Port Edward Restaurant
REFRESH-INTERVAL;VALUE=DURATION:PT1H
X-Robots-Tag:noindex
X-PUBLISHED-TTL:PT1H
BEGIN:VTIMEZONE
TZID:America/Chicago
BEGIN:DAYLIGHT
TZOFFSETFROM:-0600
TZOFFSETTO:-0500
TZNAME:CDT
DTSTART:20250309T080000
END:DAYLIGHT
BEGIN:STANDARD
TZOFFSETFROM:-0500
TZOFFSETTO:-0600
TZNAME:CST
DTSTART:20251102T070000
END:STANDARD
BEGIN:DAYLIGHT
TZOFFSETFROM:-0600
TZOFFSETTO:-0500
TZNAME:CDT
DTSTART:20260308T080000
END:DAYLIGHT
BEGIN:STANDARD
TZOFFSETFROM:-0500
TZOFFSETTO:-0600
TZNAME:CST
DTSTART:20261101T070000
END:STANDARD
BEGIN:DAYLIGHT
TZOFFSETFROM:-0600
TZOFFSETTO:-0500
TZNAME:CDT
DTSTART:20270314T080000
END:DAYLIGHT
BEGIN:STANDARD
TZOFFSETFROM:-0500
TZOFFSETTO:-0600
TZNAME:CST
DTSTART:20271107T070000
END:STANDARD
END:VTIMEZONE
BEGIN:VEVENT
DTSTART;TZID=America/Chicago:20260102T160000
DTEND;TZID=America/Chicago:20260102T210000
DTSTAMP:20260423T021221
CREATED:20250214T170915Z
LAST-MODIFIED:20251014T185235Z
UID:10000101-1767369600-1767387600@portedward.com
SUMMARY:Surf & Turf Buffet
DESCRIPTION:Adults $68 I Children Ages 5-12 $20 I  Ages 4 & Under Free+ Crab Legs for $20 per lb     \n\n\n\n    \n\n\n\n        \n        Surf & Turf Buffet includes:    \n\n\n\n        \n    \n                                \n\n            \n                        \n                                    \n                            \n                    \n    \n    \n                    Surf            \n    \n\n\n\n\n        \n        Paella \nSalmon with Dill Sauce \nClams Casino \nLobster Thermidor \nScallops \nOysters Rockefeller \nFreshly Shucked Oysters \nSeafood Alfredo \nCajun Tilapia \nFried Walleye \nJumbo Shrimp Cocktail \nShrimp DeJonghe \nCoconut Shrimp \nGrilled Shrimp Skewers     \n\n        \n                    \n                \n                \n                    \n\n        \n    \n                                \n\n            \n                        \n                                    \n                            \n                    \n    \n    \n                    Turf            \n    \n\n\n\n\n        \n        Carved Slow Roasted Prime Rib • Filet Mignon Wellington • Pork Chops • Stuffed Chicken Breast • Chicken Marsala     \n\n        \n                    \n                \n                \n                    \n\n        \n    \n                                \n\n            \n                        \n                                    \n                            \n                    \n    \n    \n                    Chef Action Station            \n    \n\n\n\n\n        \n        Filet Mignon Oscar • Steak Diane     \n\n        \n                    \n                \n                \n                    \n\n        \n    \n                                \n\n            \n                        \n                                    \n                            \n                    \n    \n    \n                    Smoked Fish Station            \n    \n\n\n\n\n        \n        Smoked Gravlax • Smoked Salmon • Smoked Trout     \n\n        \n                    \n                \n                \n                    \n\n        \n    \n                                \n\n            \n                        \n                                    \n                            \n                    \n    \n    \n                    Sides            \n    \n\n\n\n\n        \n        Grilled and Steamed Vegetables \nPotato StationBaked Potato • Baked Sweet Potato • Garlic Mashed Potato     \n\n        \n                    \n                \n                \n                    \n\n        \n    \n                                \n\n            \n                        \n                                    \n                            \n                    \n    \n    \n                    Soups & Salads            \n    \n\n\n\n\n        \n        Lobster Bisque Soup \nLobster Salad \nCaesar Salad \nAssorted Green Salads \nAssorted Cheese     \n\n        \n                    \n                \n                \n                    \n\n        \n    \n                                \n\n            \n                        \n                                    \n                            \n                    \n    \n    \n                    Dessert Station            \n    \n\n\n\n\n        \n        Dessert Action Station Prepared to your requestBananas Foster • Cherries Jubilee Crepes \nChocolate Fountain • Sugar Free Desserts • Assorted Pies & Cakes • Jello • Cheesecake • Cookies     \n\n        \n                    \n                \n                        \n        \n                        \n                        \n                        \n                    \n\n    \n    \n    \n        Make Your Reservation Today\n        \n            (847) 658-5441        \n    \n    \n                    \n            \n                CALL NOW
URL:https://portedward.com/calendar/surf-turf-buffet/2026-01-02/
LOCATION:Port Edward Restaurant\, 20 W. Algonquin Rd.\, Algonquin\, IL\, 60102
CATEGORIES:Buffets
ATTACH;FMTTYPE=image/jpeg:https://portedward.com/wp-content/uploads/2025/02/PortEds_Surf-Turf-Buffet-2025-26-15.jpg
END:VEVENT
END:VCALENDAR