BEGIN:VCALENDAR
VERSION:2.0
PRODID:-//Port Edward Restaurant - ECPv6.15.20//NONSGML v1.0//EN
CALSCALE:GREGORIAN
METHOD:PUBLISH
X-WR-CALNAME:Port Edward Restaurant
X-ORIGINAL-URL:https://portedward.com
X-WR-CALDESC:Events for Port Edward Restaurant
REFRESH-INTERVAL;VALUE=DURATION:PT1H
X-Robots-Tag:noindex
X-PUBLISHED-TTL:PT1H
BEGIN:VTIMEZONE
TZID:America/Chicago
BEGIN:DAYLIGHT
TZOFFSETFROM:-0600
TZOFFSETTO:-0500
TZNAME:CDT
DTSTART:20250309T080000
END:DAYLIGHT
BEGIN:STANDARD
TZOFFSETFROM:-0500
TZOFFSETTO:-0600
TZNAME:CST
DTSTART:20251102T070000
END:STANDARD
BEGIN:DAYLIGHT
TZOFFSETFROM:-0600
TZOFFSETTO:-0500
TZNAME:CDT
DTSTART:20260308T080000
END:DAYLIGHT
BEGIN:STANDARD
TZOFFSETFROM:-0500
TZOFFSETTO:-0600
TZNAME:CST
DTSTART:20261101T070000
END:STANDARD
BEGIN:DAYLIGHT
TZOFFSETFROM:-0600
TZOFFSETTO:-0500
TZNAME:CDT
DTSTART:20270314T080000
END:DAYLIGHT
BEGIN:STANDARD
TZOFFSETFROM:-0500
TZOFFSETTO:-0600
TZNAME:CST
DTSTART:20271107T070000
END:STANDARD
END:VTIMEZONE
BEGIN:VEVENT
DTSTART;TZID=America/Chicago:20260117T180000
DTEND;TZID=America/Chicago:20260117T210000
DTSTAMP:20260423T065302
CREATED:20251002T201746Z
LAST-MODIFIED:20251014T185636Z
UID:10000661-1768672800-1768683600@portedward.com
SUMMARY:Live Entertainment
DESCRIPTION:
URL:https://portedward.com/calendar/live-entertainment/2026-01-17/
CATEGORIES:Live Music
END:VEVENT
BEGIN:VEVENT
DTSTART;TZID=America/Chicago:20260123T180000
DTEND;TZID=America/Chicago:20260123T210000
DTSTAMP:20260423T065302
CREATED:20251002T201746Z
LAST-MODIFIED:20251014T185636Z
UID:10000662-1769191200-1769202000@portedward.com
SUMMARY:Live Entertainment
DESCRIPTION:
URL:https://portedward.com/calendar/live-entertainment/2026-01-23/
CATEGORIES:Live Music
END:VEVENT
BEGIN:VEVENT
DTSTART;TZID=America/Chicago:20260124T180000
DTEND;TZID=America/Chicago:20260124T210000
DTSTAMP:20260423T065302
CREATED:20251002T201746Z
LAST-MODIFIED:20251014T185636Z
UID:10000663-1769277600-1769288400@portedward.com
SUMMARY:Live Entertainment
DESCRIPTION:
URL:https://portedward.com/calendar/live-entertainment/2026-01-24/
CATEGORIES:Live Music
END:VEVENT
BEGIN:VEVENT
DTSTART;TZID=America/Chicago:20260130T180000
DTEND;TZID=America/Chicago:20260130T210000
DTSTAMP:20260423T065302
CREATED:20251002T201746Z
LAST-MODIFIED:20251014T185636Z
UID:10000664-1769796000-1769806800@portedward.com
SUMMARY:Live Entertainment
DESCRIPTION:
URL:https://portedward.com/calendar/live-entertainment/2026-01-30/
CATEGORIES:Live Music
END:VEVENT
BEGIN:VEVENT
DTSTART;TZID=America/Chicago:20260131T180000
DTEND;TZID=America/Chicago:20260131T210000
DTSTAMP:20260423T065302
CREATED:20251002T201746Z
LAST-MODIFIED:20251014T185636Z
UID:10000665-1769882400-1769893200@portedward.com
SUMMARY:Live Entertainment
DESCRIPTION:
URL:https://portedward.com/calendar/live-entertainment/2026-01-31/
CATEGORIES:Live Music
END:VEVENT
BEGIN:VEVENT
DTSTART;TZID=America/Chicago:20260206T180000
DTEND;TZID=America/Chicago:20260206T210000
DTSTAMP:20260423T065302
CREATED:20251002T201746Z
LAST-MODIFIED:20251014T185636Z
UID:10000666-1770400800-1770411600@portedward.com
SUMMARY:Live Entertainment
DESCRIPTION:
URL:https://portedward.com/calendar/live-entertainment/2026-02-06/
CATEGORIES:Live Music
END:VEVENT
BEGIN:VEVENT
DTSTART;TZID=America/Chicago:20260207T180000
DTEND;TZID=America/Chicago:20260207T210000
DTSTAMP:20260423T065302
CREATED:20251002T201746Z
LAST-MODIFIED:20251014T185636Z
UID:10000667-1770487200-1770498000@portedward.com
SUMMARY:Live Entertainment
DESCRIPTION:
URL:https://portedward.com/calendar/live-entertainment/2026-02-07/
CATEGORIES:Live Music
END:VEVENT
BEGIN:VEVENT
DTSTART;TZID=America/Chicago:20260213T180000
DTEND;TZID=America/Chicago:20260213T210000
DTSTAMP:20260423T065302
CREATED:20251002T201746Z
LAST-MODIFIED:20251014T185636Z
UID:10000668-1771005600-1771016400@portedward.com
SUMMARY:Live Entertainment
DESCRIPTION:
URL:https://portedward.com/calendar/live-entertainment/2026-02-13/
CATEGORIES:Live Music
END:VEVENT
BEGIN:VEVENT
DTSTART;TZID=America/Chicago:20260214T190000
DTEND;TZID=America/Chicago:20260214T230000
DTSTAMP:20260423T065302
CREATED:20260122T210730Z
LAST-MODIFIED:20260122T210730Z
UID:10000669-1771095600-1771110000@portedward.com
SUMMARY:Live Entertainment
DESCRIPTION:Rick Lindy and the Wild Ones
URL:https://portedward.com/calendar/live-entertainment-2/
CATEGORIES:Live Music
END:VEVENT
BEGIN:VEVENT
DTSTART;TZID=America/Chicago:20260220T180000
DTEND;TZID=America/Chicago:20260220T210000
DTSTAMP:20260423T065302
CREATED:20251002T201746Z
LAST-MODIFIED:20251014T185636Z
UID:10000670-1771610400-1771621200@portedward.com
SUMMARY:Live Entertainment
DESCRIPTION:
URL:https://portedward.com/calendar/live-entertainment/2026-02-20/
CATEGORIES:Live Music
END:VEVENT
BEGIN:VEVENT
DTSTART;TZID=America/Chicago:20260221T180000
DTEND;TZID=America/Chicago:20260221T210000
DTSTAMP:20260423T065302
CREATED:20251002T201746Z
LAST-MODIFIED:20251014T185636Z
UID:10000671-1771696800-1771707600@portedward.com
SUMMARY:Live Entertainment
DESCRIPTION:
URL:https://portedward.com/calendar/live-entertainment/2026-02-21/
CATEGORIES:Live Music
END:VEVENT
BEGIN:VEVENT
DTSTART;TZID=America/Chicago:20260227T180000
DTEND;TZID=America/Chicago:20260227T210000
DTSTAMP:20260423T065302
CREATED:20251002T201746Z
LAST-MODIFIED:20251014T185636Z
UID:10000672-1772215200-1772226000@portedward.com
SUMMARY:Live Entertainment
DESCRIPTION:
URL:https://portedward.com/calendar/live-entertainment/2026-02-27/
CATEGORIES:Live Music
END:VEVENT
BEGIN:VEVENT
DTSTART;TZID=America/Chicago:20260228T180000
DTEND;TZID=America/Chicago:20260228T210000
DTSTAMP:20260423T065302
CREATED:20251002T201746Z
LAST-MODIFIED:20251014T185636Z
UID:10000673-1772301600-1772312400@portedward.com
SUMMARY:Live Entertainment
DESCRIPTION:
URL:https://portedward.com/calendar/live-entertainment/2026-02-28/
CATEGORIES:Live Music
END:VEVENT
BEGIN:VEVENT
DTSTART;TZID=America/Chicago:20260306T180000
DTEND;TZID=America/Chicago:20260306T210000
DTSTAMP:20260423T065302
CREATED:20251002T201746Z
LAST-MODIFIED:20251014T185636Z
UID:10000674-1772820000-1772830800@portedward.com
SUMMARY:Live Entertainment
DESCRIPTION:
URL:https://portedward.com/calendar/live-entertainment/2026-03-06/
CATEGORIES:Live Music
END:VEVENT
BEGIN:VEVENT
DTSTART;TZID=America/Chicago:20260307T180000
DTEND;TZID=America/Chicago:20260307T210000
DTSTAMP:20260423T065302
CREATED:20251002T201746Z
LAST-MODIFIED:20251014T185636Z
UID:10000675-1772906400-1772917200@portedward.com
SUMMARY:Live Entertainment
DESCRIPTION:
URL:https://portedward.com/calendar/live-entertainment/2026-03-07/
CATEGORIES:Live Music
END:VEVENT
BEGIN:VEVENT
DTSTART;TZID=America/Chicago:20260313T180000
DTEND;TZID=America/Chicago:20260313T210000
DTSTAMP:20260423T065302
CREATED:20251002T201746Z
LAST-MODIFIED:20251014T185636Z
UID:10000676-1773424800-1773435600@portedward.com
SUMMARY:Live Entertainment
DESCRIPTION:
URL:https://portedward.com/calendar/live-entertainment/2026-03-13/
CATEGORIES:Live Music
END:VEVENT
BEGIN:VEVENT
DTSTART;TZID=America/Chicago:20260314T180000
DTEND;TZID=America/Chicago:20260314T210000
DTSTAMP:20260423T065302
CREATED:20251002T201746Z
LAST-MODIFIED:20251014T185636Z
UID:10000677-1773511200-1773522000@portedward.com
SUMMARY:Live Entertainment
DESCRIPTION:
URL:https://portedward.com/calendar/live-entertainment/2026-03-14/
CATEGORIES:Live Music
END:VEVENT
BEGIN:VEVENT
DTSTART;TZID=America/Chicago:20260320T180000
DTEND;TZID=America/Chicago:20260320T210000
DTSTAMP:20260423T065302
CREATED:20251002T201746Z
LAST-MODIFIED:20251014T185636Z
UID:10000678-1774029600-1774040400@portedward.com
SUMMARY:Live Entertainment
DESCRIPTION:
URL:https://portedward.com/calendar/live-entertainment/2026-03-20/
CATEGORIES:Live Music
END:VEVENT
BEGIN:VEVENT
DTSTART;TZID=America/Chicago:20260321T180000
DTEND;TZID=America/Chicago:20260321T210000
DTSTAMP:20260423T065302
CREATED:20251002T201746Z
LAST-MODIFIED:20251014T185636Z
UID:10000679-1774116000-1774126800@portedward.com
SUMMARY:Live Entertainment
DESCRIPTION:
URL:https://portedward.com/calendar/live-entertainment/2026-03-21/
CATEGORIES:Live Music
END:VEVENT
BEGIN:VEVENT
DTSTART;TZID=America/Chicago:20260327T180000
DTEND;TZID=America/Chicago:20260327T210000
DTSTAMP:20260423T065302
CREATED:20251002T201746Z
LAST-MODIFIED:20251014T185636Z
UID:10000680-1774634400-1774645200@portedward.com
SUMMARY:Live Entertainment
DESCRIPTION:
URL:https://portedward.com/calendar/live-entertainment/2026-03-27/
CATEGORIES:Live Music
END:VEVENT
BEGIN:VEVENT
DTSTART;TZID=America/Chicago:20260328T180000
DTEND;TZID=America/Chicago:20260328T210000
DTSTAMP:20260423T065302
CREATED:20251002T201746Z
LAST-MODIFIED:20251014T185636Z
UID:10000681-1774720800-1774731600@portedward.com
SUMMARY:Live Entertainment
DESCRIPTION:
URL:https://portedward.com/calendar/live-entertainment/2026-03-28/
CATEGORIES:Live Music
END:VEVENT
BEGIN:VEVENT
DTSTART;TZID=America/Chicago:20260403T180000
DTEND;TZID=America/Chicago:20260403T210000
DTSTAMP:20260423T065302
CREATED:20251002T201746Z
LAST-MODIFIED:20251014T185636Z
UID:10000682-1775239200-1775250000@portedward.com
SUMMARY:Live Entertainment
DESCRIPTION:
URL:https://portedward.com/calendar/live-entertainment/2026-04-03/
CATEGORIES:Live Music
END:VEVENT
BEGIN:VEVENT
DTSTART;TZID=America/Chicago:20260404T180000
DTEND;TZID=America/Chicago:20260404T210000
DTSTAMP:20260423T065302
CREATED:20251002T201746Z
LAST-MODIFIED:20251014T185636Z
UID:10000683-1775325600-1775336400@portedward.com
SUMMARY:Live Entertainment
DESCRIPTION:
URL:https://portedward.com/calendar/live-entertainment/2026-04-04/
CATEGORIES:Live Music
END:VEVENT
BEGIN:VEVENT
DTSTART;TZID=America/Chicago:20260410T180000
DTEND;TZID=America/Chicago:20260410T210000
DTSTAMP:20260423T065302
CREATED:20251002T201746Z
LAST-MODIFIED:20251014T185636Z
UID:10000684-1775844000-1775854800@portedward.com
SUMMARY:Live Entertainment
DESCRIPTION:
URL:https://portedward.com/calendar/live-entertainment/2026-04-10/
CATEGORIES:Live Music
END:VEVENT
BEGIN:VEVENT
DTSTART;TZID=America/Chicago:20260411T180000
DTEND;TZID=America/Chicago:20260411T210000
DTSTAMP:20260423T065302
CREATED:20251002T201746Z
LAST-MODIFIED:20251014T185636Z
UID:10000685-1775930400-1775941200@portedward.com
SUMMARY:Live Entertainment
DESCRIPTION:
URL:https://portedward.com/calendar/live-entertainment/2026-04-11/
CATEGORIES:Live Music
END:VEVENT
BEGIN:VEVENT
DTSTART;TZID=America/Chicago:20260417T180000
DTEND;TZID=America/Chicago:20260417T210000
DTSTAMP:20260423T065302
CREATED:20251002T201746Z
LAST-MODIFIED:20251014T185636Z
UID:10000686-1776448800-1776459600@portedward.com
SUMMARY:Live Entertainment
DESCRIPTION:
URL:https://portedward.com/calendar/live-entertainment/2026-04-17/
CATEGORIES:Live Music
END:VEVENT
BEGIN:VEVENT
DTSTART;TZID=America/Chicago:20260418T180000
DTEND;TZID=America/Chicago:20260418T210000
DTSTAMP:20260423T065302
CREATED:20251002T201746Z
LAST-MODIFIED:20251014T185636Z
UID:10000687-1776535200-1776546000@portedward.com
SUMMARY:Live Entertainment
DESCRIPTION:
URL:https://portedward.com/calendar/live-entertainment/2026-04-18/
CATEGORIES:Live Music
END:VEVENT
BEGIN:VEVENT
DTSTART;TZID=America/Chicago:20260424T180000
DTEND;TZID=America/Chicago:20260424T210000
DTSTAMP:20260423T065302
CREATED:20251002T201746Z
LAST-MODIFIED:20251014T185636Z
UID:10000688-1777053600-1777064400@portedward.com
SUMMARY:Live Entertainment
DESCRIPTION:
URL:https://portedward.com/calendar/live-entertainment/2026-04-24/
CATEGORIES:Live Music
END:VEVENT
BEGIN:VEVENT
DTSTART;TZID=America/Chicago:20260425T180000
DTEND;TZID=America/Chicago:20260425T210000
DTSTAMP:20260423T065302
CREATED:20251002T201746Z
LAST-MODIFIED:20251014T185636Z
UID:10000689-1777140000-1777150800@portedward.com
SUMMARY:Live Entertainment
DESCRIPTION:
URL:https://portedward.com/calendar/live-entertainment/2026-04-25/
CATEGORIES:Live Music
END:VEVENT
BEGIN:VEVENT
DTSTART;TZID=America/Chicago:20260501T180000
DTEND;TZID=America/Chicago:20260501T210000
DTSTAMP:20260423T065302
CREATED:20251002T201746Z
LAST-MODIFIED:20251014T185636Z
UID:10000690-1777658400-1777669200@portedward.com
SUMMARY:Live Entertainment
DESCRIPTION:
URL:https://portedward.com/calendar/live-entertainment/2026-05-01/
CATEGORIES:Live Music
END:VEVENT
END:VCALENDAR