BEGIN:VCALENDAR
VERSION:2.0
PRODID:-//Port Edward Restaurant - ECPv6.15.20//NONSGML v1.0//EN
CALSCALE:GREGORIAN
METHOD:PUBLISH
X-WR-CALNAME:Port Edward Restaurant
X-ORIGINAL-URL:https://portedward.com
X-WR-CALDESC:Events for Port Edward Restaurant
REFRESH-INTERVAL;VALUE=DURATION:PT1H
X-Robots-Tag:noindex
X-PUBLISHED-TTL:PT1H
BEGIN:VTIMEZONE
TZID:America/Chicago
BEGIN:DAYLIGHT
TZOFFSETFROM:-0600
TZOFFSETTO:-0500
TZNAME:CDT
DTSTART:20250309T080000
END:DAYLIGHT
BEGIN:STANDARD
TZOFFSETFROM:-0500
TZOFFSETTO:-0600
TZNAME:CST
DTSTART:20251102T070000
END:STANDARD
BEGIN:DAYLIGHT
TZOFFSETFROM:-0600
TZOFFSETTO:-0500
TZNAME:CDT
DTSTART:20260308T080000
END:DAYLIGHT
BEGIN:STANDARD
TZOFFSETFROM:-0500
TZOFFSETTO:-0600
TZNAME:CST
DTSTART:20261101T070000
END:STANDARD
BEGIN:DAYLIGHT
TZOFFSETFROM:-0600
TZOFFSETTO:-0500
TZNAME:CDT
DTSTART:20270314T080000
END:DAYLIGHT
BEGIN:STANDARD
TZOFFSETFROM:-0500
TZOFFSETTO:-0600
TZNAME:CST
DTSTART:20271107T070000
END:STANDARD
END:VTIMEZONE
BEGIN:VEVENT
DTSTART;TZID=America/Chicago:20260430T180000
DTEND;TZID=America/Chicago:20260430T200000
DTSTAMP:20260425T203803
CREATED:20260319T155959Z
LAST-MODIFIED:20260319T175832Z
UID:10001174-1777572000-1777579200@portedward.com
SUMMARY:Spring Wine Tasting
DESCRIPTION:Freshly shucked oysters. World-class Scotch.\nAn evening you’ll never forget. \nEnjoy East Coast & West Coast oysters paired with hand-crafted Scotch cocktails and premium single malt & blended whiskies. \n\nFeatured Cocktails\nSmoke’a Cola Lagavulin 8YO Single Malt Scotch & Cola with a Lime \nTalisker Highball Talisker 10YO Single Malt Scotch & Soda\, Cracked Black Pepper with a Lemon \nOban Old FashionedOban 14YO Single Malt Scotch\, Sugar Syrup\, Angostura Bitters\, Orange \nStravaganzaJohnnie Walker Gold Label Reserve\, Apple Juice\, Sparkling Wine\, Lemon Zest \nAlso Recommended Neat or On The RocksLagavulin 8YO\, Talisker 10YO\, Oban 14YO\, Johnnie Walker Gold Label Reserve\, Johnnie Walker Blue Label     \n\n        \n                        \n        \n                        \n                        \n                        \n                    \n\n        \n        *No coupons\, bonus certificates\, or any other discounts can be used on specials or promotions.
URL:https://portedward.com/calendar/spring-wine-tasting-2026/
LOCATION:Port Edward Restaurant\, 20 W. Algonquin Rd.\, Algonquin\, IL\, 60102
CATEGORIES:Special Events
ATTACH;FMTTYPE=image/jpeg:https://portedward.com/wp-content/uploads/2026/03/PortEds_Spring-Wine-Tasting-2026-6.jpg
END:VEVENT
END:VCALENDAR